Workbook

Sheet Overitelj
A1: ОВЕРИТЕЉ | B1: БРОЈ ОВЕРЕНИХ ИЗЈАВА
A2: Алексинац-Општинска управа | B2: =COUNTIF([1]Sheet2!A:A,Overitelj!A2) -> 64
A3: Алибунар-Дариана Ракитована | B3: =COUNTIF([1]Sheet2!A:A,Overitelj!A3) -> 134
A4: Аранђеловац-Општинска управа | B4: =COUNTIF([1]Sheet2!A:A,Overitelj!A4) -> 34
A5: Бајина Башта-Општинска управа | B5: =COUNTIF([1]Sheet2!A:A,Overitelj!A5) -> 48
A6: Бачка Паланка-Милица Драгутиновић | B6: =COUNTIF([1]Sheet2!A:A,Overitelj!A6) -> 24
A7: Бачка Паланка-Бранка Меденица | B7: =COUNTIF([1]Sheet2!A:A,Overitelj!A7) -> 84
A8: Бачки Петровац-Jована Ђаковац Кочиш | B8: =COUNTIF([1]Sheet2!A:A,Overitelj!A8) -> 82
A9: Бела Паланка-Општинска управа | B9: =COUNTIF([1]Sheet2!A:A,Overitelj!A9) -> 76
A10: Блаце-Небојша Милосављевић | B10: =COUNTIF([1]Sheet2!A:A,Overitelj!A10) -> 180
A11: Бор-Вишица Сретеновић | B11: =COUNTIF([1]Sheet2!A:A,Overitelj!A11) -> 213
A12: Ваљево-Градска управа | B12: =COUNTIF([1]Sheet2!A:A,Overitelj!A12) -> 84
A13: Велико Градиште-Весна Николић | B13: =COUNTIF([1]Sheet2!A:A,Overitelj!A13) -> 86
... A107: Шабац-Ненад Вујић | B107: =COUNTIF([1]Sheet2!A:A,Overitelj!A107) -> 188
